{"text_format":"2","workbook":"xlsx","n_sheets":3,"sheets":["034","036","045"],"not_rendered":{"charts":0,"images":9,"macros":0,"external_links":0,"defined_names":0,"comments":0,"pivot_tables":0},"unopened":[],"bounds":{"document_bytes":16777216,"sheet_cells":100000,"run_cost":"one","rows_first":2000,"rows_last":500,"rows_between":2000,"halvings":0,"cell_chars":16384,"cell_head_chars":4096},"cells_cut":0,"cells_raw":0,"read":"whole","date_system":"1900"}

{"sheet":"034","index":0,"n_rows":48,"n_cols":27,"rows_kept":48,"cut":false,"hidden":false,"merged":[[3,0,3,1],[4,0,4,1],[6,1,7,1],[6,2,7,2],[6,3,7,3],[6,4,6,5],[6,6,7,6],[6,7,7,7],[6,8,7,8],[6,9,7,9],[6,10,7,10],[6,11,7,11],[6,12,7,12],[6,13,7,13],[6,21,7,21],[6,22,7,22],[6,23,7,23],[6,24,7,24],[20,18,20,23],[6,14,7,14],[6,15,7,15],[6,16,7,16],[6,17,7,17],[6,18,7,18],[6,19,7,19],[6,20,7,20]]}
[]
[]
[]
["UNIVERSIDADE FEDERAL DE JATAÍ"]
["34. Número Total de Alunos Ingressantes"]
[]
[null,"CURSOS",2004.0,2005.0,2006.0,null,"Total",2007.0,2008.0,2009.0,2010.0,2011.0,2012.0,2013.0,2014.0,2015.0,2016.0,2017.0,2018.0,2019.0,2020.0,2021.0,2022.0,2023.0,2024.0]
[{"$nulls":4},"1º Semestre","2º Semestre",{"$nulls":20},"Duração em Anos"]
[1.0,"AGRONOMIA",0.0,29.0,32.0,24.0,{"$f":"SUM(E9:F9)","v":56},60.0,63.0,67.0,65.0,75.0,72.0,76.0,65.0,73.0,85.0,70.0,63.0,63.0,68.0,53.0,66.0,69.0,72.0,null,5.0]
[2.0,"BIOMEDICINA","-","-","-","-","-",37.0,39.0,34.0,41.0,40.0,43.0,43.0,34.0,29.0,35.0,58.0,41.0,41.0,33.0,41.0,47.0,39.0,44.0,null,4.0]
[3.0,"CIÊNCIAS BIOLÓGICAS - BACHARELADO",12.0,10.0,11.0,"-",{"$f":"SUM(E11:F11)","v":11},26.0,28.0,28.0,18.0,26.0,25.0,28.0,24.0,38.0,38.0,46.0,28.0,32.0,34.0,35.0,35.0,35.0,46.0,null,4.0]
[4.0,"CIÊNCIAS BIOLÓGICAS - LICENCIATURA",30.0,28.0,28.0,"-",28,16.0,17.0,21.0,7.0,22.0,13.0,13.0,7.0,26.0,22.0,22.0,26.0,29.0,21.0,27.0,15.0,33.0,12.0,null,4.0]
[5.0,"CIÊNCIAS DA COMPUTAÇÃO","-","-","-","-","-","-",30.0,47.0,46.0,39.0,41.0,32.0,41.0,43.0,56.0,50.0,43.0,49.0,47.0,50.0,53.0,54.0,48.0,null,4.0]
[6.0,"DIREITO","-","-","-","-","-","-","-",61.0,59.0,69.0,73.0,73.0,71.0,70.0,75.0,70.0,72.0,78.0,69.0,68.0,81.0,69.0,76.0,null,5.0]
[7.0,"EDUCAÇÃO FÍSICA - BACHARELADO","-","-","-","-","-","-","-","-",41.0,35.0,39.0,41.0,40.0,52.0,49.0,47.0,45.0,46.0,30.0,46.0,39.0,33.0,30.0,null,4.0]
[8.0,"EDUCAÇÃO FÍSICA - LICENCIATURA",0.0,39.0,39.0,"-",{"$f":"SUM(E16:F16)","v":39},38.0,40.0,38.0,21.0,25.0,18.0,33.0,24.0,24.0,31.0,30.0,35.0,33.0,23.0,30.0,17.0,36.0,26.0,null,4.0]
[9.0,"ENFERMAGEM","-","-","-","-","-","-",28.0,29.0,24.0,31.0,30.0,34.0,24.0,30.0,33.0,35.0,38.0,28.0,29.0,34.0,36.0,28.0,29.0,null,5.0]
[10.0,"ENGENHARIA FLORESTAL","-","-","-","-","-","-","-",44.0,49.0,44.0,49.0,40.0,43.0,49.0,54.0,54.0,44.0,45.0,35.0,41.0,36.0,39.0,41.0,null,5.0]
[11.0,"FÍSICA","-","-","-",23.0,{"$f":"SUM(E19:F19)","v":23},17.0,6.0,11.0,13.0,12.0,8.0,6.0,17.0,26.0,34.0,22.0,22.0,23.0,8.0,10.0,8.0,5.0,5.0,null,4.0]
[12.0,"FISIOTERAPIA","-","-","-","-","-","-","-","-",39.0,40.0,36.0,46.0,38.0,31.0,48.0,52.0,42.0,41.0,29.0,43.0,45.0,41.0,42.0,null,5.0]
[13.0,"GEOGRAFIA - ABI",0.0,13.0,3.0,"-",{"$f":"SUM(E21:F21)","v":3},9.0,6.0,11.0,8.0,5.0,7.0,12.0,14.0,9.0,21.0,10.0,"Extinto",{"$nulls":7},0.0]
[14.0,"GEOGRAFIA - BACHARELADO",0.0,3.0,8.0,1.0,9,6.0,31.0,8.0,16.0,12.0,4.0,15.0,12.0,16.0,16.0,7.0,21.0,20.0,22.0,20.0,16.0,9.0,14.0,null,4.0]
[15.0,"GEOGRAFIA - LICENCIATURA",0.0,23.0,30.0,1.0,31,24.0,18.0,26.0,21.0,22.0,13.0,13.0,16.0,8.0,13.0,26.0,21.0,24.0,16.0,19.0,17.0,15.0,15.0,null,4.0]
[16.0,"HISTÓRIA","-","-","-",47.0,47,39.0,40.0,45.0,25.0,31.0,24.0,25.0,26.0,38.0,41.0,49.0,40.0,48.0,42.0,45.0,43.0,40.0,36.0,null,4.0]
[17.0,"LETRAS - INGLÊS",0.0,25.0,29.0,2.0,31,25.0,15.0,16.0,14.0,22.0,13.0,18.0,14.0,38.0,28.0,18.0,27.0,28.0,16.0,28.0,21.0,20.0,17.0,null,4.0]
[18.0,"LETRAS - PORTUGUÊS",0.0,34.0,34.0,"-",34,39.0,25.0,27.0,30.0,27.0,23.0,19.0,18.0,29.0,31.0,29.0,41.0,37.0,31.0,31.0,23.0,31.0,25.0,null,4.0]
[19.0,"MATEMÁTICA",0.0,32.0,30.0,"-",30,39.0,26.0,18.0,22.0,21.0,21.0,14.0,21.0,29.0,22.0,35.0,23.0,31.0,19.0,18.0,11.0,5.0,9.0,null,4.0]
[20.0,"MEDICINA*","-","-","-","-","-","-","-","-","-","-","-","-",32.0,77.0,96.0,81.0,81.0,73.0,72.0,72.0,85.0,74.0,66.0,null,6.0]
[21.0,"MEDICINA VETERINÁRIA",0.0,30.0,30.0,"-",{"$f":"SUM(E29:F29)","v":30},32.0,27.0,43.0,63.0,61.0,68.0,58.0,64.0,68.0,81.0,66.0,68.0,64.0,63.0,73.0,63.0,65.0,74.0,null,5.0]
[22.0,"PEDAGOGIA (MATUTINO)","-","-","-","-","-","-","-",19.0,22.0,21.0,25.0,16.0,31.0,27.0,38.0,43.0,44.0,40.0,37.0,32.0,42.0,40.0,42.0,null,4.0]
[23.0,"PEDAGOGIA (NOTURNO)",75.0,70.0,73.0,2.0,{"$f":"SUM(E31:F31)","v":75},68.0,74.0,44.0,45.0,44.0,42.0,45.0,37.0,47.0,51.0,47.0,53.0,51.0,41.0,45.0,44.0,41.0,41.0,null,4.0]
[24.0,"PSICOLOGIA","-","-","-","-","-",35.0,37.0,40.0,49.0,50.0,39.0,49.0,36.0,35.0,59.0,47.0,45.0,42.0,36.0,33.0,49.0,40.0,52.0,null,5.0]
[25.0,"QUÍMICA - BACHARELADO","-","-","-","-","-","-","-","-","-","-",6.0,14.0,11.0,12.0,26.0,25.0,19.0,21.0,25.0,19.0,8.0,9.0,10.0,null,4.0]
[26.0,"QUÍMICA - LICENCIATURA","-","-","-",38.0,{"$f":"SUM(E34:F34)","v":38},35.0,39.0,23.0,15.0,18.0,14.0,9.0,15.0,29.0,30.0,24.0,19.0,17.0,13.0,9.0,1.0,2.0,6.0,null,4.0]
[27.0,"ZOOTECNIA","-","-","-",29.0,29,30.0,32.0,33.0,26.0,28.0,31.0,36.0,25.0,22.0,35.0,42.0,36.0,34.0,32.0,28.0,26.0,30.0,25.0,null,5.0]
[null,"TOTAL",{"$f":"SUM(C9:C35)","v":117},336,347,167,514,575,621,733,779,820,777,808,800,975,1148,1105,1037,1038,891,950,927,902,903.0]
[]
[]
[null,"Fonte:  Sistema Integrado de Gestão de Atividades Acadêmicas (SIGAA) de 2004 a 2008"]
[null,"Fonte: Dados Inep 2009 a 2017"]
[null,"Dados referentes ao sistema semestral"]
[null,"Legenda: - O curso não existia na UFJ"]
[null,"                * Entrada única em 2014/2"]
[null,"                ABI Área Básica de Ingresso: Designa uma situação em que uma única “entrada” possibilita ao estudante, após a conclusão de um conjunto básico de disciplinas, a escolha de uma entre duas ou mais formações acadêmicas."]
[]
[null,"                Somente os cursos de Ciências Biológicas (Licenciatura e Bacharelado) e Pedagogia tiveram entrada em 2004 no regime semestral."]
[]
[null,"Fórmula de cálculo:"]

{"sheet":"036","index":1,"n_rows":47,"n_cols":56,"rows_kept":47,"cut":false,"hidden":false,"merged":[[3,0,3,1],[4,0,4,1],[6,1,7,1],[6,2,6,3],[6,4,7,4],[6,5,6,6],[6,7,7,7],[6,8,6,9],[6,10,7,10],[6,11,6,12],[6,13,7,13],[6,14,6,15],[6,16,7,16],[6,19,7,19],[6,38,6,39],[6,41,6,42],[6,44,6,45],[6,47,6,48],[6,50,6,51],[6,53,6,54],[6,17,6,18],[6,20,6,21],[6,23,6,24],[6,26,6,27],[6,29,6,30],[6,32,6,33],[6,35,6,36],[6,43,7,43],[6,46,7,46],[6,49,7,49],[6,52,7,52],[6,55,7,55],[6,22,7,22],[6,25,7,25],[6,28,7,28],[6,31,7,31],[6,34,7,34],[6,37,7,37],[6,40,7,40]]}
[]
[]
[]
["UNIVERSIDADE FEDERAL DE JATAÍ"]
["36. Número de Alunos Diplomados na Graduação"]
[]
[null,"CURSOS",2007.0,null,"TOTAL",2008.0,null,"TOTAL",2009.0,null,"TOTAL",2010.0,null,"TOTAL",2011.0,null,"TOTAL",2012.0,null,"TOTAL",2013.0,null,"TOTAL",2014.0,null,"TOTAL",2015.0,null,"TOTAL",2016.0,null,"TOTAL",2017.0,null,"TOTAL",2018.0,null,"TOTAL",2019.0,null,"TOTAL",2020.0,null,"TOTAL",2021.0,null,"TOTAL",2022.0,null,"TOTAL",2023.0,null,"TOTAL",2024.0,null,"TOTAL"]
[null,null,"1º Semestre","2º Semestre",null,"1º Semestre","2º Semestre",null,"1º Semestre","2º Semestre",null,"1º Semestre","2º Semestre",null,"1º Semestre","2º Semestre",null,"1º Semestre","2º Semestre",null,"1º Semestre","2º Semestre",null,"1º Semestre","2º Semestre",null,"1º Semestre","2º Semestre",null,"1º Semestre","2º Semestre",null,"1º Semestre","2º Semestre",null,"1º Semestre","2º Semestre",null,"1º Semestre","2º Semestre",null,"1º Semestre","2º Semestre",null,"1º Semestre","2º Semestre",null,"1º Semestre","2º Semestre",null,"1º Semestre","2º Semestre",null,"1º Semestre","2º Semestre"]
[1.0,"AGRONOMIA",".",".",".",".",0.0,{"$f":"SUM(F9:G9)","v":0},5.0,14.0,{"$f":"SUM(I9:J9)","v":19},24.0,13.0,{"$f":"SUM(L9:M9)","v":37},34.0,17.0,{"$f":"SUM(O9:P9)","v":51},15.0,15.0,{"$f":"SUM(R9:S9)","v":30},15.0,17.0,{"$f":"SUM(U9:V9)","v":32},16.0,24.0,{"$f":"SUM(X9:Y9)","v":40},18.0,24.0,{"$f":"SUM(AA9:AB9)","v":42},12.0,35.0,{"$f":"SUM(AD9:AE9)","v":47},3.0,31.0,{"$f":"SUM(AG9:AH9)","v":34},9.0,19.0,{"$f":"SUM(AJ9:AK9)","v":28},14.0,31.0,{"$f":"SUM(AM9:AN9)","v":45},27.0,18.0,{"$f":"SUM(AP9:AQ9)","v":45},14.0,26.0,{"$f":"SUM(AS9:AT9)","v":40},16.0,27.0,{"$f":"SUM(AV9:AW9)","v":43},13.0,41.0,{"$f":"SUM(AY9+AZ9)","v":54},4.0,17.0,{"$f":"SUM(BB9:BC9)","v":21}]
[2.0,"BIOMEDICINA",".",".",".",".",".",".",".",".",".",".",17.0,17,2.0,28.0,30,2.0,25.0,27,0.0,22.0,22,8.0,14.0,22,0.0,22.0,22,0.0,33.0,33,0.0,17.0,17,0.0,16.0,16,3.0,18.0,21,10.0,7.0,17,10.0,18.0,28,3.0,19.0,22,4.0,18.0,22,6.0,18.0,24]
[3.0,"CIÊNCIAS BIOLÓGICAS - BACHARELADO",".",4.0,{"$f":"SUM(C11:D11)","v":4},0.0,7.0,{"$f":"SUM(F11:G11)","v":7},0.0,8.0,{"$f":"SUM(I11:J11)","v":8},0.0,11.0,11,0.0,10.0,10,1.0,8.0,9,0.0,5.0,5,2.0,5.0,7,0.0,8.0,8,3.0,2.0,5,2.0,3.0,5,3.0,3.0,6,3.0,2.0,5,4.0,6.0,10,5.0,7.0,12,4.0,10.0,14,3.0,7.0,10,2.0,2.0,4]
[4.0,"CIÊNCIAS BIOLÓGICAS - LICENCIATURA",".",11.0,11,0.0,17.0,17,4.0,16.0,20,1.0,11.0,12,0.0,9.0,9,0.0,1.0,1,3.0,5.0,8,1.0,7.0,8,0.0,3.0,3,0.0,4.0,4,0.0,0.0,0,1.0,2.0,3,1.0,2.0,3,2.0,4.0,6,0.0,3.0,3,5.0,11.0,16,1.0,8.0,9,1.0,5.0,6]
[5.0,"CIÊNCIA DA COMPUTAÇÃO","-","-","-",".",".",".",".",".",".",".",".",".",".",5.0,5,0.0,13.0,13,2.0,15.0,17,1.0,6.0,7,2.0,8.0,10,5.0,9.0,14,8.0,9.0,17,3.0,5.0,8,4.0,9.0,13,9.0,10.0,19,6.0,9.0,15,2.0,18.0,20,3.0,8.0,11,6.0,16.0,22]
[6.0,"DIREITO","-","-","-","-","-","-",".",".",".",".",".",".",".",".",".",".",".",".",".",26.0,26,2.0,34.0,36,5.0,29.0,34,6.0,50.0,56,11.0,23.0,34,10.0,51.0,61,8.0,27.0,35,5.0,41.0,46,4.0,36.0,40,15.0,35.0,50,8.0,34.0,42,9.0,37.0,46]
[7.0,"EDUCAÇÃO FÍSICA - BACHARELADO","-","-","-","-","-","-","-","-","-",".",".",".",".",".",".",".",".",".",".",10.0,10,2.0,11.0,13,3.0,9.0,12,2.0,3.0,5,3.0,7.0,10,1.0,12.0,13,5.0,14.0,19,1.0,9.0,10,8.0,16.0,24,1.0,9.0,10,2.0,11.0,13,1.0,11.0,12]
[8.0,"EDUCAÇÃO FÍSICA - LICENCIATURA",".",0.0,{"$f":"SUM(C16:D16)","v":0},0.0,28.0,{"$f":"SUM(F16:G16)","v":28},0.0,25.0,{"$f":"SUM(I16:J16)","v":25},0.0,20.0,{"$f":"SUM(L16:M16)","v":20},0.0,23.0,{"$f":"SUM(O16:P16)","v":23},2.0,16.0,{"$f":"SUM(R16:S16)","v":18},2.0,11.0,13,0.0,14.0,14,0.0,12.0,12,1.0,6.0,7,3.0,5.0,8,8.0,13.0,21,2.0,7.0,9,2.0,10.0,12,3.0,9.0,12,7.0,9.0,16,0.0,7.0,7,1.0,5.0,6]
[9.0,"ENFERMAGEM","-","-","-",".",".",".",".",".",".",".",".",".",".",".",".",".",10.0,10,0.0,23.0,23,1.0,17.0,18,1.0,18.0,19,0.0,21.0,21,0.0,22.0,22,0.0,13.0,13,2.0,9.0,11,14.0,1.0,15,0.0,0.0,0,11.0,0.0,11,17.0,15.0,32,18.0,16.0,34]
[10.0,"ENGENHARIA FLORESTAL","-","-","-","-","-","-",".",".",".",".",".",".",".",".",".",".",".",".",".",7.0,7,1.0,11.0,12,11.0,10.0,21,5.0,8.0,13,11.0,0.0,11,8.0,9.0,17,6.0,9.0,15,5.0,2.0,7,6.0,4.0,10,6.0,8.0,14,0.0,6.0,6,1.0,2.0,3]
[11.0,"FÍSICA",".",".",".",".",".",".",".",".",".",1.0,3.0,{"$f":"SUM(L19:M19)","v":4},1.0,0.0,{"$f":"SUM(O19:P19)","v":1},2.0,4.0,{"$f":"SUM(R19:S19)","v":6},1.0,4.0,5,0.0,2.0,2,0.0,2.0,2,0.0,2.0,2,0.0,1.0,1,0.0,4.0,4,1.0,3.0,4,0.0,1.0,1,0.0,3.0,3,1.0,2.0,3,0.0,3.0,3,1.0,1.0,2]
[12.0,"FISIOTERAPIA","-","-","-","-","-","-","-","-","-",".",".",".",".",".",".",".",".",".",".",".",".",".",19.0,19,2.0,20.0,22,0.0,26.0,26,3.0,18.0,21,0.0,18.0,18,2.0,22.0,24,6.0,20.0,26,5.0,0.0,5,23.0,9.0,32,5.0,17.0,22,23.0,15.0,38]
[13.0,"GEOGRAFIA - ABI","*","*","*","*","*","*","*","*","*","*","*","*","*","*","*","*","*","*","*","*","*","*","*","*","*","*","*","*","*","*","*","*","*","-","-","-","-","-","-","-","-","-","-","-","-","-","-","-","-","-","-",null,null,0]
[14.0,"GEOGRAFIA - BACHARELADO",".",0.0,{"$f":"SUM(C22:D22)","v":0},0.0,0.0,{"$f":"SUM(F22:G22)","v":0},0.0,1.0,{"$f":"SUM(I22:J22)","v":1},1.0,1.0,{"$f":"SUM(L22:M22)","v":2},1.0,3.0,{"$f":"SUM(O22:P22)","v":4},1.0,3.0,{"$f":"SUM(R22:S22)","v":4},0.0,5.0,{"$f":"SUM(U22:V22)","v":5},0.0,3.0,{"$f":"SUM(X22:Y22)","v":3},0.0,3.0,{"$f":"SUM(AA22:AB22)","v":3},2.0,3.0,{"$f":"SUM(AD22:AE22)","v":5},0.0,6.0,{"$f":"SUM(AG22:AH22)","v":6},3.0,4.0,{"$f":"SUM(AJ22:AK22)","v":7},0.0,5.0,{"$f":"SUM(AM22:AN22)","v":5},1.0,1.0,{"$f":"SUM(AP22:AQ22)","v":2},2.0,1.0,{"$f":"SUM(AS22:AT22)","v":3},1.0,3.0,{"$f":"SUM(AV22:AW22)","v":4},0.0,2.0,{"$f":"SUM(AY22+AZ22)","v":2},0.0,1.0,1]
[15.0,"GEOGRAFIA - LICENCIATURA",".",0.0,0,0.0,5.0,5,3.0,11.0,14,0.0,12.0,12,2.0,8.0,10,6.0,10.0,16,5.0,9.0,14,1.0,11.0,12,0.0,10.0,10,2.0,8.0,10,1.0,6.0,7,0.0,3.0,3,1.0,4.0,5,0.0,7.0,7,3.0,2.0,5,5.0,5.0,10,3.0,4.0,7,0.0,3.0,3]
[16.0,"HISTÓRIA",".",".",".",".",".",".",".",".",".",26.0,14.0,40,5.0,23.0,28,3.0,9.0,12,2.0,14.0,16,1.0,17.0,18,2.0,3.0,5,7.0,5.0,12,1.0,5.0,6,3.0,12.0,15,1.0,11.0,12,6.0,3.0,9,2.0,2.0,4,8.0,6.0,14,1.0,10.0,11,2.0,8.0,10]
[17.0,"LETRAS - INGLÊS",".",11.0,{"$f":"SUM(C25:D25)","v":11},1.0,12.0,{"$f":"SUM(F25:G25)","v":13},0.0,3.0,{"$f":"SUM(I25:J25)","v":3},1.0,5.0,6,2.0,7.0,9,0.0,2.0,2,0.0,2.0,2,0.0,1.0,1,0.0,4.0,4,0.0,1.0,1,0.0,1.0,1,0.0,7.0,7,1.0,8.0,9,0.0,2.0,2,1.0,7.0,8,4.0,1.0,5,0.0,5.0,5,0.0,6.0,6]
[18.0,"LETRAS - PORTUGUÊS",".",19.0,19,0.0,14.0,14,1.0,15.0,16,0.0,10.0,10,1.0,10.0,11,0.0,4.0,4,0.0,10.0,10,5.0,1.0,6,0.0,6.0,6,0.0,3.0,3,0.0,1.0,1,1.0,6.0,7,0.0,2.0,2,0.0,7.0,7,1.0,8.0,9,5.0,8.0,13,5.0,4.0,9,1.0,3.0,4]
[19.0,"MATEMÁTICA",".",0.0,0,0.0,10.0,10,2.0,5.0,7,2.0,4.0,6,5.0,7.0,12,2.0,3.0,5,0.0,4.0,4,1.0,4.0,5,0.0,4.0,4,2.0,1.0,3,0.0,5.0,5,0.0,3.0,3,2.0,1.0,3,2.0,5.0,7,1.0,2.0,3,0.0,4.0,4,0.0,2.0,2,2.0,2.0,4]
[20.0,"MEDICINA","-","-","-","-","-","-","-","-","-","-","-","-","-","-","-","-","-","-","-","-","-","-",".",".",".",".",".",".",".",".",".",".",".",".",".",".",".",".",".",37.0,21.0,58,28.0,21.0,49,0.0,39.0,39,24.0,24.0,48,39.0,0.0,39]
[21.0,"MEDICINA VETERINÁRIA",".",".",".",".",0.0,{"$f":"SUM(F29:G29)","v":0},0.0,25.0,{"$f":"SUM(I29:J29)","v":25},3.0,22.0,{"$f":"SUM(L29:M29)","v":25},2.0,19.0,{"$f":"SUM(O29:P29)","v":21},5.0,23.0,{"$f":"SUM(R29:S29)","v":28},4.0,16.0,{"$f":"SUM(U29:V29)","v":20},5.0,21.0,{"$f":"SUM(X29:Y29)","v":26},9.0,29.0,{"$f":"SUM(AA29:AB29)","v":38},13.0,16.0,{"$f":"SUM(AD29:AE29)","v":29},11.0,24.0,{"$f":"SUM(AG29:AH29)","v":35},11.0,28.0,{"$f":"SUM(AJ29:AK29)","v":39},10.0,20.0,{"$f":"SUM(AM29:AN29)","v":30},23.0,16.0,39,16.0,36.0,52,16.0,12.0,28,23.0,44.0,67,15.0,31.0,46]
[22.0,"PEDAGOGIA (MATUTINO)","-","-","-","-","-",".",".",".",".",".",".",".",".",".",".",".",0.0,0.0,0.0,7.0,7,1.0,4.0,5,1.0,6.0,7,2.0,6.0,8,2.0,7.0,9,3.0,14.0,17,1.0,15.0,16,4.0,12.0,16,5.0,5.0,10,5.0,15.0,20,7.0,7.0,14,6.0,10.0,16]
[23.0,"PEDAGOGIA (NOTURNO)",".",46.0,{"$f":"SUM(C31:D31)","v":46},5.0,39.0,{"$f":"SUM(F31:G31)","v":44},3.0,37.0,{"$f":"SUM(I31:J31)","v":40},5.0,47.0,{"$f":"SUM(L31:M31)","v":52},3.0,40.0,{"$f":"SUM(O31:P31)","v":43},4.0,39.0,{"$f":"SUM(R31:S31)","v":43},12.0,28.0,40,4.0,11.0,15,8.0,7.0,15,11.0,10.0,21,1.0,23.0,24,4.0,19.0,23,3.0,10.0,13,11.0,12.0,23,1.0,9.0,10,8.0,4.0,12,10.0,15.0,25,7.0,11.0,18]
[24.0,"PSICOLOGIA",".",".",".",".",".",".",".",".",".",".",".",".",".",22.0,22,0.0,22.0,22,3.0,33.0,36,2.0,28.0,30,0.0,29.0,29,1.0,32.0,33,0.0,25.0,25,3.0,15.0,18,2.0,33.0,35,2.0,28.0,30,8.0,31.0,39,2.0,35.0,37,2.0,32.0,34,6.0,22.0,28]
[25.0,"QUÍMICA - BACHARELADO","-","-","-","-","-","-","-","-","-","-","-","-","-","-","-",".",".",".",".",".",".",".",".",".",".",0.0,0,0.0,5.0,5,0.0,3.0,3,1.0,3.0,4,0.0,5.0,5,4.0,10.0,14,3.0,4.0,7,5.0,0.0,5,0.0,5.0,5,2.0,3.0,5]
[26.0,"QUÍMICA - LICENCIATURA",".",".",".",".",".",".",".",".",".",5.0,11.0,{"$f":"SUM(L34:M34)","v":16},0.0,11.0,{"$f":"SUM(O34:P34)","v":11},1.0,4.0,{"$f":"SUM(R34:S34)","v":5},1.0,5.0,{"$f":"SUM(U34:V34)","v":6},2.0,2.0,{"$f":"SUM(X34:Y34)","v":4},1.0,1.0,2,0.0,0.0,0,0.0,3.0,3,2.0,3.0,5,2.0,4.0,6,1.0,5.0,6,1.0,4.0,5,1.0,0.0,1,1.0,0.0,1,1.0,0.0,1]
[27.0,"ZOOTECNIA",".",".",".",".",".",".",".",".",".",".",".",".",8.0,7.0,15,1.0,4.0,5,6.0,13.0,19,5.0,13.0,18,4.0,2.0,6,7.0,3.0,10,1.0,7.0,8,2.0,7.0,9,1.0,2.0,3,3.0,1.0,4,2.0,9.0,11,8.0,5.0,13,8.0,10.0,18,3.0,8.0,11]
[null,"TOTAL",{"$f":"SUM(C9:C35)","v":0},91,91,6,132,138,18,160,178,69,201,270,66,249,315,45,215,260,56,291,347,61,280,341,67,269,336,81,292,373,61,252,313,76,289,365,75,273,348,179,259,438,135,272,407,162,294,456,140,339,479,{"$f":"SUM(BB9:BB35)","v":157},253,410]
[]
[null,"Fonte: Centro de Gestão Acadêmica (CGA) "]
[null,"Dados referentes ao sistema semestral"]
[null,"Dados a partir da primeira turma de concluíntes do regime semestral"]
[null,"Legenda: - O curso não existia na Regional Jataí"]
[null,"                  . O período não corresponde ao prazo mínimo para a integralização curricular da primeira turma"]
[null,"                  * Geografia Área Básica de Ingresso (ABI), não há concluintes e diplomados. Em 2018 foi extinto. ABI: Designa uma situação em que uma única “entrada” possibilita ao estudante, após a conclusão de um conjunto básico de disciplinas, a escolha de uma entre duas ou mais formações acadêmicas."]
[]
[null,"Para tal indicador, utilizou-se o conceito de diplomado (formado - graduado) apresentado pelo Censo da Educação Superior: aluno que concluiu a totalidade dos créditos acadêmicos exigidos para titulação no curso durante o ano de referência do Censo. "]
[]
[null,"Fórmula de cálculo:"]

{"sheet":"045","index":2,"n_rows":62,"n_cols":21,"rows_kept":62,"cut":false,"hidden":false,"merged":[[3,0,3,16],[4,0,4,16],[43,1,43,16],[52,1,52,16]]}
[]
[]
[]
["UNIVERSIDADE FEDERAL DE JATAÍ\n"]
["45. Índice de Sucesso da Graduação por Curso",{"$nulls":17},"Atualizada em 06/02/2025"]
[]
[]
[null,"CURSOS",2007.0,2008.0,2009.0,2010.0,2011.0,2012.0,2013.0,2014.0,2015.0,2016.0,2017.0,2018.0,2019.0,2020.0,2021.0,2022.0,2023.0,2024.0,"Duração em Anos"]
[1.0,"AGRONOMIA",".",".",".",{"$f":"'036'!N9/'034'!G9","v":0.6607142857},{"$f":"'036'!Q9/'034'!H9","v":0.85},{"$f":"'036'!T9/'034'!I9","v":0.4761904762},{"$f":"'036'!W9/'034'!J9","v":0.4776119403},{"$f":"'036'!Z9/'034'!K9","v":0.6153846154},{"$f":"'036'!AC9/'034'!L9","v":0.56},{"$f":"'036'!AF9/'034'!M9","v":0.6527777778},{"$f":"'036'!AI9/'034'!N9","v":0.4473684211},{"$f":"'036'!AL9/'034'!O9","v":0.4307692308},{"$f":"'036'!AO9/'034'!P9","v":0.6164383562},{"$f":"'036'!AR9/'034'!Q9","v":0.5294117647},{"$f":"'036'!AU9/'034'!R9","v":0.5714285714},{"$f":"('036'!AX9/'034'!S9)","v":0.6825396825},{"$f":"('036'!BA9/'034'!T9)","v":0.8571428571},{"$f":"('036'!BD9/'034'!U9)","v":0.3088235294},5.0]
[2.0,"BIOMEDICINA",".",".",".",".",{"$f":"'036'!Q10/'034'!I10","v":0.7692307692},{"$f":"'036'!T10/'034'!J10","v":0.7941176471},{"$f":"'036'!W10/'034'!K10","v":0.5365853659},{"$f":"'036'!Z10/'034'!L10","v":0.55},{"$f":"'036'!AC10/'034'!M10","v":0.511627907},{"$f":"'036'!AF10/'034'!N10","v":0.7674418605},{"$f":"'036'!AI10/'034'!O10","v":0.5},{"$f":"'036'!AL10/'034'!P10","v":0.5517241379},{"$f":"'036'!AO10/'034'!Q10","v":0.6},{"$f":"'036'!AR10/'034'!R10","v":0.2931034483},{"$f":"'036'!AU10/'034'!S10","v":0.6829268293},{"$f":"('036'!AX10/'034'!T10)","v":0.5365853659},{"$f":"('036'!BA10/'034'!U10)","v":0.6666666667},{"$f":"('036'!BD10/'034'!V10)","v":0.5853658537},4.0]
[3.0,"CIÊNCIAS BIOLÓGICAS - BACHARELADO","-",{"$f":"'036'!H11/'034'!D11","v":0.7},{"$f":"'036'!K11/'034'!G11","v":0.7272727273},{"$f":"'036'!N11/'034'!H11","v":0.4230769231},{"$f":"'036'!Q11/'034'!I11","v":0.3571428571},{"$f":"'036'!T11/'034'!J11","v":0.3214285714},{"$f":"'036'!W11/'034'!K11","v":0.2777777778},{"$f":"'036'!Z11/'034'!L11","v":0.2692307692},{"$f":"'036'!AC11/'034'!M11","v":0.32},{"$f":"'036'!AF11/'034'!N11","v":0.1785714286},{"$f":"'036'!AI11/'034'!O11","v":0.2083333333},{"$f":"'036'!AL11/'034'!P11","v":0.1578947368},{"$f":"'036'!AO11/'034'!Q11","v":0.1315789474},{"$f":"'036'!AR11/'034'!R11","v":0.2173913043},{"$f":"'036'!AU11/'034'!S11","v":0.4285714286},{"$f":"('036'!AX11/'034'!T11)","v":0.4375},{"$f":"('036'!BA11/'034'!U11)","v":0.2941176471},{"$f":"('036'!BD11/'034'!V11)","v":0.1142857143},4.0]
[4.0,"CIÊNCIAS BIOLÓGICAS - LICENCIATURA","-",{"$f":"'036'!H12/'034'!D12","v":0.6071428571},{"$f":"'036'!K12/'034'!G12","v":0.7142857143},{"$f":"'036'!N12/'034'!H12","v":0.75},{"$f":"'036'!Q12/'034'!I12","v":0.5294117647},{"$f":"'036'!T12/'034'!J12","v":0.04761904762},{"$f":"'036'!W12/'034'!K12","v":1.142857143},{"$f":"'036'!Z12/'034'!L12","v":0.3636363636},{"$f":"'036'!AC12/'034'!M12","v":0.2307692308},{"$f":"'036'!AF12/'034'!N12","v":0.3076923077},{"$f":"'036'!AI12/'034'!O12","v":0},{"$f":"'036'!AL12/'034'!P12","v":0.1153846154},{"$f":"'036'!AO12/'034'!Q12","v":0.1363636364},{"$f":"'036'!AR12/'034'!R12","v":0.2727272727},{"$f":"'036'!AU12/'034'!S12","v":0.1153846154},{"$f":"('036'!AX12/'034'!T12)","v":0.5517241379},{"$f":"('036'!BA12/'034'!U12)","v":0.4285714286},{"$f":"('036'!BD12/'034'!V12)","v":0.2222222222},4.0]
[5.0,"CIÊNCIA DA COMPUTAÇÃO","-",".",".",".",".",{"$f":"'036'!T13/'034'!J13","v":0.2765957447},{"$f":"'036'!W13/'034'!K13","v":0.3695652174},{"$f":"'036'!Z13/'034'!L13","v":0.1794871795},{"$f":"'036'!AC13/'034'!M13","v":0.243902439},{"$f":"'036'!AF13/'034'!N13","v":0.4375},{"$f":"'036'!AI13/'034'!O13","v":0.4146341463},{"$f":"'036'!AL13/'034'!P13","v":0.1860465116},{"$f":"'036'!AO13/'034'!Q13","v":0.2321428571},{"$f":"'036'!AR13/'034'!R13","v":0.38},{"$f":"'036'!AU13/'034'!S13","v":0.3488372093},{"$f":"('036'!AX13/'034'!T13)","v":0.4081632653},{"$f":"('036'!BA13/'034'!U13)","v":0.2340425532},{"$f":"('036'!BD13/'034'!V13)","v":0.44},4.0]
[6.0,"DIREITO","-","-",".",".",".",".",".",{"$f":"'036'!Z14/'034'!K14","v":0.6101694915},{"$f":"'036'!AC14/'034'!L14","v":0.4927536232},{"$f":"'036'!AF14/'034'!M14","v":0.7671232877},{"$f":"'036'!AI14/'034'!N14","v":0.4657534247},{"$f":"'036'!AL14/'034'!O14","v":0.8591549296},{"$f":"'036'!AO14/'034'!P14","v":0.5},{"$f":"'036'!AR14/'034'!Q14","v":0.6133333333},{"$f":"'036'!AU14/'034'!R14","v":0.5714285714},{"$f":"('036'!AX14/'034'!S14)","v":0.6944444444},{"$f":"('036'!BA14/'034'!T14)","v":0.5384615385},{"$f":"('036'!BD14/'034'!U14)","v":0.6666666667},5.0]
[7.0,"EDUCAÇÃO FÍSICA - BACHARELADO","-","-","-",".",".",".",".",{"$f":"'036'!Z15/'034'!L15","v":0.3714285714},{"$f":"'036'!AC15/'034'!M15","v":0.3076923077},{"$f":"'036'!AF15/'034'!N15","v":0.1219512195},{"$f":"'036'!AI15/'034'!O15","v":0.25},{"$f":"'036'!AL15/'034'!P15","v":0.25},{"$f":"'036'!AO15/'034'!Q15","v":0.387755102},{"$f":"'036'!AR15/'034'!R15","v":0.2127659574},{"$f":"'036'!AU15/'034'!S15","v":0.5333333333},{"$f":"('036'!AX15/'034'!T15)","v":0.2173913043},{"$f":"('036'!BA15/'034'!U15)","v":0.4333333333},{"$f":"('036'!BD15/'034'!V15)","v":0.2608695652},4.0]
[8.0,"EDUCAÇÃO FÍSICA - LICENCIATURA","-","-",{"$f":"'036'!K16/'034'!G16","v":0.641025641},{"$f":"'036'!N16/'034'!H16","v":0.5263157895},{"$f":"'036'!Q16/'034'!I16","v":0.575},{"$f":"'036'!T16/'034'!J16","v":0.4736842105},{"$f":"'036'!W16/'034'!K16","v":0.619047619},{"$f":"'036'!Z16/'034'!L16","v":0.56},{"$f":"'036'!AC16/'034'!M16","v":0.6666666667},{"$f":"'036'!AF16/'034'!N16","v":0.2121212121},{"$f":"'036'!AI16/'034'!O16","v":0.3333333333},{"$f":"'036'!AL16/'034'!P16","v":0.875},{"$f":"'036'!AO16/'034'!Q16","v":0.2903225806},{"$f":"'036'!AR16/'034'!R16","v":0.4},{"$f":"'036'!AU16/'034'!S16","v":0.3428571429},{"$f":"('036'!AX16/'034'!T16)","v":0.4848484848},{"$f":"('036'!BA16/'034'!U16)","v":0.3043478261},{"$f":"('036'!BD16/'034'!V16)","v":0.2},4.0]
[9.0,"ENFERMAGEM","-",".",".",".",".",".",{"$f":"'036'!W17/'034'!J17","v":0.7931034483},{"$f":"'036'!Z17/'034'!K17","v":0.75},{"$f":"'036'!AC17/'034'!L17","v":0.6129032258},{"$f":"'036'!AF17/'034'!M17","v":0.7},{"$f":"'036'!AI17/'034'!N17","v":0.6470588235},{"$f":"'036'!AL17/'034'!O17","v":0.5416666667},{"$f":"'036'!AO17/'034'!P17","v":0.3666666667},{"$f":"'036'!AR17/'034'!Q17","v":0.4545454545},{"$f":"'036'!AU17/'034'!R17","v":0},{"$f":"('036'!AX17/'034'!S17)","v":0.2894736842},{"$f":"('036'!BA17/'034'!T17)","v":1.142857143},{"$f":"('036'!BD17/'034'!U17)","v":1.172413793},5.0]
[10.0,"ENGENHARIA FLORESTAL","-","-",".",".",".",".",".",{"$f":"'036'!Z18/'034'!K18","v":0.2448979592},{"$f":"'036'!AC18/'034'!L18","v":0.4772727273},{"$f":"'036'!AF18/'034'!M18","v":0.2653061224},{"$f":"'036'!AI18/'034'!N18","v":0.275},{"$f":"'036'!AL18/'034'!O18","v":0.3953488372},{"$f":"'036'!AO18/'034'!P18","v":0.306122449},{"$f":"'036'!AR18/'034'!Q18","v":0.1296296296},{"$f":"'036'!AU18/'034'!R18","v":0.1851851852},{"$f":"('036'!AX18/'034'!S18)","v":0.3181818182},{"$f":"('036'!BA18/'034'!T18)","v":0.1333333333},{"$f":"('036'!BD18/'034'!U18)","v":0.08571428571},5.0]
[11.0,"FÍSICA",".",".",".",{"$f":"'036'!N19/'034'!H19","v":0.2352941176},{"$f":"'036'!Q19/'034'!I19","v":0.1666666667},{"$f":"'036'!T19/'034'!J19","v":0.5454545455},{"$f":"'036'!W19/'034'!K19","v":0.3846153846},{"$f":"'036'!Z19/'034'!L19","v":0.1666666667},{"$f":"'036'!AC19/'034'!M19","v":0.25},{"$f":"'036'!AF19/'034'!N19","v":0.3333333333},{"$f":"'036'!AI19/'034'!O19","v":0.05882352941},{"$f":"'036'!AL19/'034'!P19","v":0.1538461538},{"$f":"'036'!AO19/'034'!Q19","v":0.1176470588},{"$f":"'036'!AR19/'034'!R19","v":0.04545454545},{"$f":"'036'!AU19/'034'!S19","v":0.1363636364},{"$f":"('036'!AX19/'034'!T19)","v":0.1304347826},{"$f":"('036'!BA19/'034'!U19)","v":0.375},{"$f":"('036'!BD19/'034'!V19)","v":0.2},4.0]
[12.0,"FISIOTERAPIA","-","-","-",".",".",".",".",".",{"$f":"'036'!AC20/'034'!L20","v":0.55},{"$f":"'036'!AF20/'034'!M20","v":0.7222222222},{"$f":"'036'!AI20/'034'!N20","v":0.4565217391},{"$f":"'036'!AL20/'034'!O20","v":0.4736842105},{"$f":"'036'!AO20/'034'!P20","v":0.7741935484},{"$f":"'036'!AR20/'034'!Q20","v":0.5416666667},{"$f":"'036'!AU20/'034'!R20","v":0.09615384615},{"$f":"('036'!AX20/'034'!S20)","v":0.7619047619},{"$f":"('036'!BA20/'034'!T20)","v":0.5365853659},{"$f":"('036'!BD20/'034'!U20)","v":1.310344828},5.0]
[14.0,"GEOGRAFIA - BACHARELADO",".","-",{"$f":"'036'!K22/'034'!G22","v":0.1111111111},{"$f":"'036'!N22/'034'!H22","v":0.3333333333},{"$f":"'036'!Q22/'034'!I22","v":0.1290322581},{"$f":"'036'!T22/'034'!J22","v":0.5},{"$f":"'036'!W22/'034'!K22","v":0.3125},{"$f":"'036'!Z22/'034'!L22","v":0.25},{"$f":"'036'!AC22/'034'!M22","v":0.75},{"$f":"'036'!AF22/'034'!N22","v":0.3333333333},{"$f":"'036'!AI22/'034'!O22","v":0.5},{"$f":"'036'!AL22/'034'!P22","v":0.4375},{"$f":"'036'!AO22/'034'!Q22","v":0.3125},{"$f":"'036'!AR22/'034'!R22","v":0.2857142857},{"$f":"'036'!AU22/'034'!S22","v":0.1428571429},{"$f":"('036'!AX22/'034'!T22)","v":0.2},{"$f":"('036'!BA22/'034'!U22)","v":0.09090909091},{"$f":"('036'!BD22/'034'!V22)","v":0.05},4.0]
[15.0,"GEOGRAFIA - LICENCIATURA",".","-",{"$f":"'036'!K23/'034'!G23","v":0.4516129032},{"$f":"'036'!N23/'034'!H23","v":0.5},{"$f":"'036'!Q23/'034'!I23","v":0.5555555556},{"$f":"'036'!T23/'034'!J23","v":0.6153846154},{"$f":"'036'!W23/'034'!K23","v":0.6666666667},{"$f":"'036'!Z23/'034'!L23","v":0.5454545455},{"$f":"'036'!AC23/'034'!M23","v":0.7692307692},{"$f":"'036'!AF23/'034'!N23","v":0.7692307692},{"$f":"'036'!AI23/'034'!O23","v":0.4375},{"$f":"'036'!AL23/'034'!P23","v":0.375},{"$f":"'036'!AO23/'034'!Q23","v":0.3846153846},{"$f":"'036'!AR23/'034'!R23","v":0.2692307692},{"$f":"'036'!AU23/'034'!S23","v":0.2380952381},{"$f":"('036'!AX23/'034'!T23)","v":0.4166666667},{"$f":"('036'!BA23/'034'!U23)","v":0.4375},{"$f":"('036'!BD23/'034'!V23)","v":0.1578947368},4.0]
[16.0,"HISTÓRIA",".",".",".",{"$f":"'036'!N24/'034'!H24","v":1.025641026},{"$f":"'036'!Q24/'034'!I24","v":0.7},{"$f":"'036'!T24/'034'!J24","v":0.2666666667},{"$f":"'036'!W24/'034'!K24","v":0.64},{"$f":"'036'!Z24/'034'!L24","v":0.5806451613},{"$f":"'036'!AC24/'034'!M24","v":0.2083333333},{"$f":"'036'!AF24/'034'!N24","v":0.48},{"$f":"'036'!AI24/'034'!O24","v":0.2307692308},{"$f":"'036'!AL24/'034'!P24","v":0.3947368421},{"$f":"'036'!AO24/'034'!Q24","v":0.2926829268},{"$f":"'036'!AR24/'034'!R24","v":0.1836734694},{"$f":"'036'!AU24/'034'!S24","v":0.1},{"$f":"('036'!AX24/'034'!T24)","v":0.2916666667},{"$f":"('036'!BA24/'034'!U24)","v":0.2619047619},{"$f":"('036'!BD24/'034'!V24)","v":0.2222222222},4.0]
[17.0,"LETRAS - INGLÊS",".","-",{"$f":"'036'!K25/'034'!G25","v":0.09677419355},{"$f":"'036'!N25/'034'!H25","v":0.24},{"$f":"'036'!Q25/'034'!I25","v":0.6},{"$f":"'036'!T25/'034'!J25","v":0.125},{"$f":"'036'!W25/'034'!K25","v":0.1428571429},{"$f":"'036'!Z25/'034'!L25","v":0.04545454545},{"$f":"'036'!AC25/'034'!M25","v":0.3076923077},{"$f":"'036'!AF25/'034'!N25","v":0.05555555556},{"$f":"'036'!AI25/'034'!O25","v":0.07142857143},{"$f":"'036'!AL25/'034'!P25","v":0.1842105263},{"$f":"'036'!AO25/'034'!Q25","v":0.3214285714},{"$f":"'036'!AR25/'034'!R25","v":0.1111111111},{"$f":"'036'!AU25/'034'!S25","v":0.2962962963},{"$f":"('036'!AX25/'034'!T25)","v":0.1785714286},{"$f":"('036'!BA25/'034'!U25)","v":0.3125},{"$f":"('036'!BD25/'034'!V25)","v":0.2142857143},4.0]
[18.0,"LETRAS - PORTUGUÊS",".","-",{"$f":"'036'!K26/'034'!G26","v":0.4705882353},{"$f":"'036'!N26/'034'!H26","v":0.2564102564},{"$f":"'036'!Q26/'034'!I26","v":0.44},{"$f":"'036'!T26/'034'!J26","v":0.1481481481},{"$f":"'036'!W26/'034'!K26","v":0.3333333333},{"$f":"'036'!Z26/'034'!L26","v":0.2222222222},{"$f":"'036'!AC26/'034'!M26","v":0.2608695652},{"$f":"'036'!AF26/'034'!N26","v":0.1578947368},{"$f":"'036'!AI26/'034'!O26","v":0.05555555556},{"$f":"'036'!AL26/'034'!P26","v":0.2413793103},{"$f":"'036'!AO26/'034'!Q26","v":0.06451612903},{"$f":"'036'!AR26/'034'!R26","v":0.2413793103},{"$f":"'036'!AU26/'034'!S26","v":0.2195121951},{"$f":"('036'!AX26/'034'!T26)","v":0.3513513514},{"$f":"('036'!BA26/'034'!U26)","v":0.2903225806},{"$f":"('036'!BD26/'034'!V26)","v":0.1290322581},4.0]
[19.0,"MATEMÁTICA",".","-",{"$f":"'036'!K27/'034'!G27","v":0.2333333333},{"$f":"'036'!N27/'034'!H27","v":0.1538461538},{"$f":"'036'!Q27/'034'!I27","v":0.4615384615},{"$f":"'036'!T27/'034'!J27","v":0.2777777778},{"$f":"'036'!W27/'034'!K27","v":0.1818181818},{"$f":"'036'!Z27/'034'!L27","v":0.2380952381},{"$f":"'036'!AC27/'034'!M27","v":0.1904761905},{"$f":"'036'!AF27/'034'!N27","v":0.2142857143},{"$f":"'036'!AI27/'034'!O27","v":0.2380952381},{"$f":"'036'!AL27/'034'!P27","v":0.1034482759},{"$f":"'036'!AO27/'034'!Q27","v":0.1363636364},{"$f":"'036'!AR27/'034'!R27","v":0.2},{"$f":"'036'!AU27/'034'!S27","v":0.1304347826},{"$f":"('036'!AX27/'034'!T27)","v":0.1290322581},{"$f":"('036'!BA27/'034'!U27)","v":0.1052631579},{"$f":"('036'!BD27/'034'!V27)","v":0.2222222222},4.0]
[20.0,"MEDICINA","-","-","-","-","-","-","-",".",".",".",".",".",".",{"$f":"'036'!AR28/'034'!P28","v":0.7532467532},{"$f":"'036'!AU28/'034'!Q28","v":0.5104166667},{"$f":"('036'!AX28/'034'!R28)","v":0.4814814815},{"$f":"('036'!BA28/'034'!S28)","v":0.5925925926},{"$f":"('036'!BD28/'034'!T28)","v":0.5342465753},6.0]
[21.0,"MEDICINA VETERINÁRIA",".",".",".",{"$f":"'036'!N29/'034'!G29","v":0.8333333333},{"$f":"'036'!Q29/'034'!H29","v":0.65625},{"$f":"'036'!T29/'034'!I29","v":1.037037037},{"$f":"'036'!W29/'034'!J29","v":0.4651162791},{"$f":"'036'!Z29/'034'!K29","v":0.4126984127},{"$f":"'036'!AC29/'034'!L29","v":0.6229508197},{"$f":"'036'!AF29/'034'!M29","v":0.4264705882},{"$f":"'036'!AI29/'034'!N29","v":0.6034482759},{"$f":"'036'!AL29/'034'!O29","v":0.609375},{"$f":"'036'!AO29/'034'!P29","v":0.4411764706},{"$f":"'036'!AR29/'034'!Q29","v":0.4814814815},{"$f":"'036'!AU29/'034'!R29","v":0.7878787879},{"$f":"('036'!AX29/'034'!S29)","v":0.4117647059},{"$f":"('036'!BA29/'034'!T29)","v":1.046875},{"$f":"('036'!BD29/'034'!U29)","v":0.7301587302},5.0]
[22.0,"PEDAGOGIA (MATUTINO)","-","-",".",".",".",".",{"$f":"'036'!W30/'034'!K30","v":0.3181818182},{"$f":"'036'!Z30/'034'!L30","v":0.2380952381},{"$f":"'036'!AC30/'034'!M30","v":0.28},{"$f":"'036'!AF30/'034'!N30","v":0.5},{"$f":"'036'!AI30/'034'!O30","v":0.2903225806},{"$f":"'036'!AL30/'034'!P30","v":0.6296296296},{"$f":"'036'!AO30/'034'!Q30","v":0.4210526316},{"$f":"'036'!AR30/'034'!R30","v":0.3720930233},{"$f":"'036'!AU30/'034'!S30","v":0.2272727273},{"$f":"('036'!AX30/'034'!T30)","v":0.5},{"$f":"('036'!BA30/'034'!U30)","v":0.3783783784},{"$f":"('036'!BD30/'034'!V30)","v":0.5},4.0]
[23.0,"PEDAGOGIA (NOTURNO)","-",{"$f":"'036'!H31/'034'!D31","v":0.6285714286},{"$f":"'036'!K31/'034'!G31","v":0.5333333333},{"$f":"'036'!N31/'034'!H31","v":0.7647058824},{"$f":"'036'!Q31/'034'!I31","v":0.5810810811},{"$f":"'036'!T31/'034'!J31","v":0.9772727273},{"$f":"'036'!W31/'034'!K31","v":0.8888888889},{"$f":"'036'!Z31/'034'!L31","v":0.3409090909},{"$f":"'036'!AC31/'034'!M31","v":0.3571428571},{"$f":"'036'!AF31/'034'!N31","v":0.4666666667},{"$f":"'036'!AI31/'034'!O31","v":0.6486486486},{"$f":"'036'!AL31/'034'!P31","v":0.4893617021},{"$f":"'036'!AO31/'034'!Q31","v":0.2549019608},{"$f":"'036'!AR31/'034'!R31","v":0.4893617021},{"$f":"'036'!AU31/'034'!S31","v":0.1886792453},{"$f":"('036'!AX31/'034'!T31)","v":0.2352941176},{"$f":"('036'!BA31/'034'!U31)","v":0.6097560976},{"$f":"('036'!BD31/'034'!V31)","v":0.4},4.0]
[24.0,"PSICOLOGIA",".",".",".",".",".",{"$f":"'036'!T32/'034'!I32","v":0.5945945946},{"$f":"'036'!W32/'034'!J32","v":0.9},{"$f":"'036'!Z32/'034'!K32","v":0.612244898},{"$f":"'036'!AC32/'034'!L32","v":0.58},{"$f":"'036'!AF32/'034'!M32","v":0.8461538462},{"$f":"'036'!AI32/'034'!N32","v":0.5102040816},{"$f":"'036'!AL32/'034'!O32","v":0.5},{"$f":"'036'!AO32/'034'!P32","v":1},{"$f":"'036'!AR32/'034'!Q32","v":0.5084745763},{"$f":"'036'!AU32/'034'!R32","v":0.829787234},{"$f":"('036'!AX32/'034'!S32)","v":0.8222222222},{"$f":"('036'!BA32/'034'!T32)","v":0.8095238095},{"$f":"('036'!BD32/'034'!U32)","v":0.7777777778},5.0]
[25.0,"QUÍMICA - BACHARELADO","-","-","-","-","-",".",".",".",".",{"$f":"'036'!AF33/'034'!N33","v":0.3571428571},{"$f":"'036'!AI33/'034'!O33","v":0.2727272727},{"$f":"'036'!AL33/'034'!P33","v":0.3333333333},{"$f":"'036'!AO33/'034'!Q33","v":0.1923076923},{"$f":"'036'!AR33/'034'!R33","v":0.56},{"$f":"'036'!AU33/'034'!S33","v":0.3684210526},{"$f":"('036'!AX33/'034'!T33)","v":0.2380952381},{"$f":"('036'!BA33/'034'!U33)","v":0.2},{"$f":"('036'!BD33/'034'!V33)","v":0.2631578947},4.0]
[26.0,"QUÍMICA - LICENCIATURA",".",".",".",{"$f":"'036'!N34/'034'!H34","v":0.4571428571},{"$f":"'036'!Q34/'034'!I34","v":0.2820512821},{"$f":"'036'!T34/'034'!J34","v":0.2173913043},{"$f":"'036'!W34/'034'!K34","v":0.4},{"$f":"'036'!Z34/'034'!L34","v":0.2222222222},{"$f":"'036'!AC34/'034'!M34","v":0.1428571429},{"$f":"'036'!AF34/'034'!N34","v":0},{"$f":"'036'!AI34/'034'!O34","v":0.2},{"$f":"'036'!AL34/'034'!P34","v":0.1724137931},{"$f":"'036'!AO34/'034'!Q34","v":0.2},{"$f":"'036'!AR34/'034'!R34","v":0.25},{"$f":"'036'!AU34/'034'!S34","v":0.2631578947},{"$f":"('036'!AX34/'034'!T34)","v":0.05882352941},{"$f":"('036'!BA34/'034'!U34)","v":0.07692307692},{"$f":"('036'!BD34/'034'!V34)","v":0.1111111111},4.0]
[27.0,"ZOOTECNIA",".",".",".",".",{"$f":"'036'!Q35/'034'!H35","v":0.5},{"$f":"'036'!T35/'034'!I35","v":0.15625},{"$f":"'036'!W35/'034'!J35","v":0.5757575758},{"$f":"'036'!Z35/'034'!K35","v":0.6923076923},{"$f":"'036'!AC35/'034'!L35","v":0.2142857143},{"$f":"'036'!AF35/'034'!M35","v":0.3225806452},{"$f":"'036'!AI35/'034'!N35","v":0.2222222222},{"$f":"'036'!AL35/'034'!O35","v":0.36},{"$f":"'036'!AO35/'034'!P35","v":0.1363636364},{"$f":"'036'!AR35/'034'!Q35","v":0.1142857143},{"$f":"'036'!AU35/'034'!R35","v":0.2619047619},{"$f":"('036'!AX35/'034'!S35)","v":0.3611111111},{"$f":"('036'!BA35/'034'!T35)","v":0.5294117647},{"$f":"('036'!BD35/'034'!U35)","v":0.34375},5.0]
[]
[null,"Dados referentes ao sistema semestral"]
[null,"Legenda: - O curso não existia na Regional Jataí"]
[null,"                  . O período não corresponde ao prazo mínimo para a integralização curricular da primeira turma"]
[null,"                  * Geografia Área Básica de Ingresso (ABI), não há concluintes e diplomados. Em 2018 foi extinto. ABI: Designa uma situação em que uma única “entrada” possibilita ao estudante, após a conclusão de um conjunto básico de disciplinas, a escolha de uma entre duas ou mais formações acadêmicas."]
[]
[null,"Para obtenção do índice utilizou-se a relação entre os indicadores 36 e 34"]
[null,"Obs: Os índices que excedem 100% correspondem ao maior quantitativo de alunos graduados em relação á quantidade de ingressantes no mesmo ano, em decorrência dos alunos que concluíram o curso após o período mínimo para integralização curricular."]
[]
[null,"45.1 Índice de Sucesso da Graduação"]
[]
[null,null,2007.0,2008.0,2009.0,2010.0,2011.0,2012.0,2013.0,2014.0,2015.0,2016.0,2017.0,2018.0,2019.0,2020.0,2021.0,2022.0,2023.0,2024.0]
[null,"Universidade Federal de Jataí",null,{"$f":"AVERAGE(D9:D34)","v":0.6452380952},0.4421485769,0.5114152827,0.5095600435,0.436145173,0.5213141891,0.3948369949,0.4128094511,{"$f":"'036'!AF36/('034'!M9+'034'!N10+'034'!N11+'034'!N12+'034'!N13+'034'!M14+'034'!N15+'034'!N16+'034'!M17+'034'!M18+'034'!N19+'034'!M20+'034'!N22+'034'!N23+'034'!N24+'034'!N25+'034'!N26+'034'!N27+'034'!M29+'034'!N30+'034'!N31+'034'!M32+'034'!N33+'034'!N34+'034'!M35)","v":0.4769820972},{"$f":"'036'!AI36/('034'!N9+'034'!O10+'034'!O11+'034'!O12+'034'!O13+'034'!N14+'034'!O15+'034'!O16+'034'!N17+'034'!N18+'034'!O19+'034'!N20+'034'!O22+'034'!O23+'034'!O24+'034'!O25+'034'!O26+'034'!O27+'034'!N29+'034'!O30+'034'!O31+'034'!N32+'034'!O33+'034'!O34+'034'!N35)","v":0.39125},{"$f":"'036'!AL36/('034'!O9+'034'!P10+'034'!P11+'034'!P12+'034'!P13+'034'!O14+'034'!P15+'034'!P16+'034'!O17+'034'!O18+'034'!P19+'034'!O20+'034'!P22+'034'!P23+'034'!P24+'034'!P25+'034'!P26+'034'!P27+'034'!O29+'034'!P30+'034'!P31+'034'!O32+'034'!P33+'034'!P34+'034'!O35)","v":0.4161915621},{"$f":"'036'!AO36/('034'!P9+'034'!Q10+'034'!Q11+'034'!Q12+'034'!Q13+'034'!P14+'034'!Q15+'034'!Q16+'034'!P17+'034'!P18+'034'!Q19+'034'!P20+'034'!Q22+'034'!Q23+'034'!Q24+'034'!Q25+'034'!Q26+'034'!Q27+'034'!P29+'034'!Q30+'034'!Q31+'034'!P32+'034'!Q33+'034'!Q34+'034'!P35)","v":0.3706070288},{"$f":"'036'!AR36/('034'!Q9+'034'!R10+'034'!R11+'034'!R12+'034'!R13+'034'!Q14+'034'!R15+'034'!R16+'034'!Q17+'034'!Q18+'034'!R19+'034'!Q20+'034'!R22+'034'!R23+'034'!R24+'034'!R25+'034'!R26+'034'!R27+'034'!P28+'034'!Q29+'034'!R30+'034'!R31+'034'!Q32+'034'!R33+'034'!R34+'034'!Q35)","v":0.3893333333},{"$f":"'036'!AU36/('034'!R9+'034'!S10+'034'!S11+'034'!S12+'034'!S13+'034'!R14+'034'!S15+'034'!S16+'034'!R17+'034'!R18+'034'!S19+'034'!R20+'034'!S22+'034'!S23+'034'!S24+'034'!S25+'034'!S26+'034'!S27+'034'!Q28+'034'!R29+'034'!S30+'034'!S31+'034'!R32+'034'!S33+'034'!S34+'034'!R35)","v":0.3768518519},{"$f":"'036'!AX36/('034'!S9+'034'!T10+'034'!T11+'034'!T12+'034'!T13+'034'!S14+'034'!T15+'034'!T16+'034'!S17+'034'!S18+'034'!T19+'034'!S20+'034'!T22+'034'!T23+'034'!T24+'034'!T25+'034'!T26+'034'!T27+'034'!R28+'034'!S29+'034'!T30+'034'!T31+'034'!S32+'034'!T33+'034'!T34+'034'!S35)","v":0.4305949008},{"$f":"'036'!BA36/('034'!T9+'034'!U10+'034'!U11+'034'!U12+'034'!U13+'034'!T14+'034'!U15+'034'!U16+'034'!T17+'034'!T18+'034'!U19+'034'!T20+'034'!U22+'034'!U23+'034'!U24+'034'!U25+'034'!U26+'034'!U27+'034'!S28+'034'!T29+'034'!U30+'034'!U31+'034'!T32+'034'!U33+'034'!U34+'034'!T35)","v":0.5128479657},{"$f":"'036'!BD36/('034'!U9+'034'!V10+'034'!V11+'034'!V12+'034'!V13+'034'!U14+'034'!V15+'034'!V16+'034'!U17+'034'!U18+'034'!V19+'034'!U20+'034'!V22+'034'!V23+'034'!V24+'034'!V25+'034'!V26+'034'!V27+'034'!T28+'034'!U29+'034'!V30+'034'!V31+'034'!U32+'034'!V33+'034'!V34+'034'!U35)","v":0.4366347178}]
[]
[]
[]
[]
[]
[null,"45.2 Índice de Sucesso da Graduação"]
[]
[null,null,2007.0,2008.0,2009.0,2010.0,2011.0,2012.0,2013.0,2014.0,2015.0,2016.0,2017.0,2018.0,2019.0,2020.0,2021.0,2022.0,2023.0,2024.0]
[null,"Universidade Federal de Jataí",null,{"$f":"'036'!H36/('034'!C9+'034'!D11+'034'!D12+'034'!D16+'034'!D21+'034'!D22+'034'!D23+'034'!D25+'034'!D26+'034'!D27+'034'!C29+'034'!D31)","v":0.4981949458},{"$f":"'036'!K36/('034'!D9+'034'!G11+'034'!G16+'034'!G19+'034'!G22+'034'!G23+'034'!G24+'034'!G25+'034'!G26+'034'!G27+'034'!D29+'034'!G31+'034'!G34+'034'!F35)","v":0.3903508772},{"$f":"'036'!N36/('034'!G9+'034'!H10+'034'!H11+'034'!H16+'034'!H19+'034'!H22+'034'!H23+'034'!H24+'034'!H25+'034'!H26+'034'!H27+'034'!G29+'034'!H31+'034'!H34+'034'!G35)","v":0.531496063},{"$f":"'036'!Q36/('034'!H9+'034'!I10+'034'!I11+'034'!I13+'034'!I16+'034'!I19+'034'!I22+'034'!I23+'034'!I24+'034'!I25+'034'!I26+'034'!I27+'034'!H29+'034'!I31+'034'!H32+'034'!I34+'034'!H35)","v":0.5545774648},{"$f":"'036'!T36/('034'!I9+'034'!J10+'034'!J11+'034'!J13+'034'!J16+'034'!I17+'034'!J19+'034'!J22+'034'!J23+'034'!J24+'034'!J25+'034'!J26+'034'!J27+'034'!I29+'034'!J30+'034'!J31+'034'!I32+'034'!J34+'034'!I35)","v":0.4553415061},{"$f":"'036'!W36/('034'!J9+'034'!K10+'034'!K11+'034'!K13+'034'!J14+'034'!K15+'034'!K16+'034'!J17+'034'!J18+'034'!K19+'034'!K22+'034'!K23+'034'!K24+'034'!K25+'034'!K26+'034'!K27+'034'!J29+'034'!K30+'034'!K31+'034'!J32+'034'!K34+'034'!J35)","v":0.4908062235},{"$f":"'036'!Z36/('034'!K9+'034'!L10+'034'!L11+'034'!L13+'034'!K14+'034'!L15+'034'!L16+'034'!K17+'034'!K18+'034'!L19+'034'!K20+'034'!L22+'034'!L23+'034'!L24+'034'!L25+'034'!L26+'034'!L27+'034'!K29+'034'!L30+'034'!L31+'034'!K32+'034'!L34+'034'!K35)","v":0.4434330299},{"$f":"'036'!AC36/('034'!L9+'034'!M10+'034'!M11+'034'!M13+'034'!L14+'034'!M15+'034'!M16+'034'!L17+'034'!L18+'034'!M19+'034'!L20+'034'!M22+'034'!M23+'034'!M24+'034'!M25+'034'!M26+'034'!M27+'034'!L29+'034'!M30+'034'!M31+'034'!L32+'034'!M33+'034'!M34+'034'!L35)","v":0.4438573316},{"$f":"'036'!AF36/('034'!M9+'034'!N10+'034'!N11+'034'!N12+'034'!N13+'034'!M14+'034'!N15+'034'!N16+'034'!M17+'034'!M18+'034'!N19+'034'!M20+'034'!N22+'034'!N23+'034'!N24+'034'!N25+'034'!N26+'034'!N27+'034'!M29+'034'!N30+'034'!N31+'034'!M32+'034'!N33+'034'!N34+'034'!M35)","v":0.4769820972},{"$f":"'036'!AI36/('034'!N9+'034'!O10+'034'!O11+'034'!O12+'034'!O13+'034'!N14+'034'!O15+'034'!O16+'034'!N17+'034'!N18+'034'!O19+'034'!N20+'034'!O22+'034'!O23+'034'!O24+'034'!O25+'034'!O26+'034'!O27+'034'!N29+'034'!O30+'034'!O31+'034'!N32+'034'!O33+'034'!O34+'034'!N35)","v":0.39125},{"$f":"'036'!AL36/('034'!O9+'034'!P10+'034'!P11+'034'!P12+'034'!P13+'034'!O14+'034'!P15+'034'!P16+'034'!O17+'034'!O18+'034'!P19+'034'!O20+'034'!P22+'034'!P23+'034'!P24+'034'!P25+'034'!P26+'034'!P27+'034'!O29+'034'!P30+'034'!P31+'034'!O32+'034'!P33+'034'!P34+'034'!O35)","v":0.4161915621},{"$f":"'036'!AO36/('034'!P9+'034'!Q10+'034'!Q11+'034'!Q12+'034'!Q13+'034'!P14+'034'!Q15+'034'!Q16+'034'!P17+'034'!P18+'034'!Q19+'034'!P20+'034'!Q22+'034'!Q23+'034'!Q24+'034'!Q25+'034'!Q26+'034'!Q27+'034'!P29+'034'!Q30+'034'!Q31+'034'!P32+'034'!Q33+'034'!Q34+'034'!P35)","v":0.3706070288},{"$f":"'036'!AR36/('034'!Q9+'034'!R10+'034'!R11+'034'!R12+'034'!R13+'034'!Q14+'034'!R15+'034'!R16+'034'!Q17+'034'!Q18+'034'!R19+'034'!Q20+'034'!R22+'034'!R23+'034'!R24+'034'!R25+'034'!R26+'034'!R27+'034'!P28+'034'!Q29+'034'!R30+'034'!R31+'034'!Q32+'034'!R33+'034'!R34+'034'!Q35)","v":0.3893333333},{"$f":"'036'!AU36/('034'!R9+'034'!S10+'034'!S11+'034'!S12+'034'!S13+'034'!R14+'034'!S15+'034'!S16+'034'!R17+'034'!R18+'034'!S19+'034'!R20+'034'!S22+'034'!S23+'034'!S24+'034'!S25+'034'!S26+'034'!S27+'034'!Q28+'034'!R29+'034'!S30+'034'!S31+'034'!R32+'034'!S33+'034'!S34+'034'!R35)","v":0.3768518519},{"$f":"'036'!AX36/('034'!S9+'034'!T10+'034'!T11+'034'!T12+'034'!T13+'034'!S14+'034'!T15+'034'!T16+'034'!S17+'034'!S18+'034'!T19+'034'!S20+'034'!T22+'034'!T23+'034'!T24+'034'!T25+'034'!T26+'034'!T27+'034'!R28+'034'!S29+'034'!T30+'034'!T31+'034'!S32+'034'!T33+'034'!T34+'034'!S35)","v":0.4305949008},{"$f":"'036'!BA36/('034'!T9+'034'!U10+'034'!U11+'034'!U12+'034'!U13+'034'!T14+'034'!U15+'034'!U16+'034'!T17+'034'!T18+'034'!U19+'034'!T20+'034'!U22+'034'!U23+'034'!U24+'034'!U25+'034'!U26+'034'!U27+'034'!S28+'034'!T29+'034'!U30+'034'!U31+'034'!T32+'034'!U33+'034'!U34+'034'!T35)","v":0.5128479657},{"$f":"'036'!BD36/('034'!U9+'034'!V10+'034'!V11+'034'!V12+'034'!V13+'034'!U14+'034'!V15+'034'!V16+'034'!U17+'034'!U18+'034'!V19+'034'!U20+'034'!V22+'034'!V23+'034'!V24+'034'!V25+'034'!V26+'034'!V27+'034'!T28+'034'!U29+'034'!V30+'034'!V31+'034'!U32+'034'!V33+'034'!V34+'034'!U35)","v":0.4366347178}]
[]
[]
[null,"Fórmula de cálculo:"]
[]
[]
[null,"em que:           é o total de alunos que concluíram o curso i no período p; e                     é a quantidade de alunos que ingressaram no curso i no período p - d, sendo d a duração do curso em períodos."]